BEGIN:VCALENDAR
VERSION:2.0
PRODID:-//Les Archers Perrotdamois - ECPv6.15.20//NONSGML v1.0//EN
CALSCALE:GREGORIAN
METHOD:PUBLISH
X-ORIGINAL-URL:https://archersperrotdamois.com
X-WR-CALDESC:Évènements pour Les Archers Perrotdamois
REFRESH-INTERVAL;VALUE=DURATION:PT1H
X-Robots-Tag:noindex
X-PUBLISHED-TTL:PT1H
BEGIN:VTIMEZONE
TZID:UTC
BEGIN:STANDARD
TZOFFSETFROM:+0000
TZOFFSETTO:+0000
TZNAME:UTC
DTSTART:20230101T000000
END:STANDARD
END:VTIMEZONE
BEGIN:VEVENT
DTSTART;VALUE=DATE:20240420
DTEND;VALUE=DATE:20240422
DTSTAMP:20260420T014615
CREATED:20240417T120117Z
LAST-MODIFIED:20240417T120148Z
UID:10000108-1713571200-1713743999@archersperrotdamois.com
SUMMARY:Championnat provincial intérieur 2024 – Nord’Arc
DESCRIPTION:
URL:https://archersperrotdamois.com/event/championnat-provincial-interieur-2024-nordarc/
LOCATION:Aréna de Duberger\, 3050 boulevard Central\, Québec\, quebec\, Canada
END:VEVENT
BEGIN:VEVENT
DTSTART;TZID=UTC:20240422T183000
DTEND;TZID=UTC:20240422T203000
DTSTAMP:20260420T014615
CREATED:20240417T115826Z
LAST-MODIFIED:20240417T115846Z
UID:10000105-1713810600-1713817800@archersperrotdamois.com
SUMMARY:Cours
DESCRIPTION:
URL:https://archersperrotdamois.com/event/cours/2024-04-22/
LOCATION:Tir intérieur\, 300 Boulevard Perrot\, Ile-Perrot\, Quebec\, Canada
END:VEVENT
BEGIN:VEVENT
DTSTART;TZID=UTC:20240427T090000
DTEND;TZID=UTC:20240427T170000
DTSTAMP:20260420T014615
CREATED:20240417T132355Z
LAST-MODIFIED:20240418T222425Z
UID:10000113-1714208400-1714237200@archersperrotdamois.com
SUMMARY:Préparation pour l'ouverture du terrain extérieur
DESCRIPTION:Bonjour les archers ! \nAlors que le beau temps s’installe doucement\, la prochaine étape sera de commencer à préparer notre site extérieur pour une date d’ouverture provisoire du dimanche 12 mai !  \nLes nouvelles clés cadenas sont maintenant disponibles à notre site intérieur tous les vendredis et lundis pendant les heures de tir. Veuillez rapporter votre ancienne clé pour éviter le supplément de 5 $. \nCette année\, l’ouverture se déroulera sur plusieurs week-ends. Les préparatifs débuteront le samedi 27 avril à partir de 9h sur le site extérieur et se poursuivront les 2 samedis suivants (4 et 11 mai). \nSi tout se passe bien\, nous visons l’ouverture du site extérieur le dimanche 12 mai ou plus tôt ! Plus y a de monde\, plus vite ça va aller alors passer le mot! \nSi possible\, apportez une bonne paire de gants\, des scies\, vos bottes et\, surtout\, le sourire ! \nLe club offrira également un repas de pizza à tous les bénévoles présents. Veuillez donc confirmer votre présence par courriel avant le 25 avril à l’adresse au club@archersperrotdamois.com \n\nMerci de nous aider! \nLa direction
URL:https://archersperrotdamois.com/event/ouverture-du-terrain-exterieur/2024-04-27/
LOCATION:Site Extérieur\, 1701 boul. Don Quichotte\, Ile-Perrot\, Quebec\, Canada
END:VEVENT
BEGIN:VEVENT
DTSTART;VALUE=DATE:20240428
DTEND;VALUE=DATE:20240429
DTSTAMP:20260420T014615
CREATED:20240417T120306Z
LAST-MODIFIED:20240417T120306Z
UID:10000109-1714262400-1714348799@archersperrotdamois.com
SUMMARY:Formation pratique – Instructeur niveau 1 USA Archery
DESCRIPTION:Information et inscription: retourner le formulaire (Cliquez ici) à Daniel Biondo (514-516-7765)
URL:https://archersperrotdamois.com/event/formation-pratique-instructeur-niveau-1-usa-archery/
LOCATION:Polyvalente Robert-Ouimet\, 1450 3e Ave\, Acton Vale\, quebec\, Canada
END:VEVENT
BEGIN:VEVENT
DTSTART;TZID=UTC:20240429T183000
DTEND;TZID=UTC:20240429T203000
DTSTAMP:20260420T014615
CREATED:20240417T115826Z
LAST-MODIFIED:20240417T115846Z
UID:10000106-1714415400-1714422600@archersperrotdamois.com
SUMMARY:Cours
DESCRIPTION:
URL:https://archersperrotdamois.com/event/cours/2024-04-29/
LOCATION:Tir intérieur\, 300 Boulevard Perrot\, Ile-Perrot\, Quebec\, Canada
END:VEVENT
END:VCALENDAR