BEGIN:VCALENDAR
VERSION:2.0
PRODID:-//Les Archers Perrotdamois - ECPv6.15.20//NONSGML v1.0//EN
CALSCALE:GREGORIAN
METHOD:PUBLISH
X-WR-CALNAME:Les Archers Perrotdamois
X-ORIGINAL-URL:https://archersperrotdamois.com
X-WR-CALDESC:Évènements pour Les Archers Perrotdamois
REFRESH-INTERVAL;VALUE=DURATION:PT1H
X-Robots-Tag:noindex
X-PUBLISHED-TTL:PT1H
BEGIN:VTIMEZONE
TZID:UTC
BEGIN:STANDARD
TZOFFSETFROM:+0000
TZOFFSETTO:+0000
TZNAME:UTC
DTSTART:20230101T000000
END:STANDARD
END:VTIMEZONE
BEGIN:VEVENT
DTSTART;VALUE=DATE:20240504
DTEND;VALUE=DATE:20240505
DTSTAMP:20260419T234540
CREATED:20240417T120400Z
LAST-MODIFIED:20240417T120400Z
UID:10000110-1714780800-1714867199@archersperrotdamois.com
SUMMARY:Archers de la Vallée
DESCRIPTION:
URL:https://archersperrotdamois.com/event/archers-de-la-vallee/
LOCATION:Terrain extérieur Archers de la Vallée\, 128 chemin Mills\, Chelsea\, quebec\, Canada
END:VEVENT
BEGIN:VEVENT
DTSTART;TZID=UTC:20240504T090000
DTEND;TZID=UTC:20240504T170000
DTSTAMP:20260419T234540
CREATED:20240417T132355Z
LAST-MODIFIED:20240418T222425Z
UID:10000114-1714813200-1714842000@archersperrotdamois.com
SUMMARY:Préparation pour l'ouverture du terrain extérieur
DESCRIPTION:Bonjour les archers ! \nAlors que le beau temps s’installe doucement\, la prochaine étape sera de commencer à préparer notre site extérieur pour une date d’ouverture provisoire du dimanche 12 mai !  \nLes nouvelles clés cadenas sont maintenant disponibles à notre site intérieur tous les vendredis et lundis pendant les heures de tir. Veuillez rapporter votre ancienne clé pour éviter le supplément de 5 $. \nCette année\, l’ouverture se déroulera sur plusieurs week-ends. Les préparatifs débuteront le samedi 27 avril à partir de 9h sur le site extérieur et se poursuivront les 2 samedis suivants (4 et 11 mai). \nSi tout se passe bien\, nous visons l’ouverture du site extérieur le dimanche 12 mai ou plus tôt ! Plus y a de monde\, plus vite ça va aller alors passer le mot! \nSi possible\, apportez une bonne paire de gants\, des scies\, vos bottes et\, surtout\, le sourire ! \nLe club offrira également un repas de pizza à tous les bénévoles présents. Veuillez donc confirmer votre présence par courriel avant le 25 avril à l’adresse au club@archersperrotdamois.com \n\nMerci de nous aider! \nLa direction
URL:https://archersperrotdamois.com/event/ouverture-du-terrain-exterieur/2024-05-04/
LOCATION:Site Extérieur\, 1701 boul. Don Quichotte\, Ile-Perrot\, Quebec\, Canada
END:VEVENT
BEGIN:VEVENT
DTSTART;VALUE=DATE:20240505
DTEND;VALUE=DATE:20240506
DTSTAMP:20260419T234540
CREATED:20240417T120426Z
LAST-MODIFIED:20240417T120530Z
UID:10000111-1714867200-1714953599@archersperrotdamois.com
SUMMARY:Archers de la Vallée – Participation Traditionnel
DESCRIPTION:Archers traditionnels seulement
URL:https://archersperrotdamois.com/event/archers-de-la-vallee-participation-traditionnel/
LOCATION:Terrain extérieur Archers de la Vallée\, 128 chemin Mills\, Chelsea\, quebec\, Canada
END:VEVENT
BEGIN:VEVENT
DTSTART;TZID=UTC:20240511T090000
DTEND;TZID=UTC:20240511T170000
DTSTAMP:20260419T234540
CREATED:20240417T132355Z
LAST-MODIFIED:20240418T222425Z
UID:10000115-1715418000-1715446800@archersperrotdamois.com
SUMMARY:Préparation pour l'ouverture du terrain extérieur
DESCRIPTION:Bonjour les archers ! \nAlors que le beau temps s’installe doucement\, la prochaine étape sera de commencer à préparer notre site extérieur pour une date d’ouverture provisoire du dimanche 12 mai !  \nLes nouvelles clés cadenas sont maintenant disponibles à notre site intérieur tous les vendredis et lundis pendant les heures de tir. Veuillez rapporter votre ancienne clé pour éviter le supplément de 5 $. \nCette année\, l’ouverture se déroulera sur plusieurs week-ends. Les préparatifs débuteront le samedi 27 avril à partir de 9h sur le site extérieur et se poursuivront les 2 samedis suivants (4 et 11 mai). \nSi tout se passe bien\, nous visons l’ouverture du site extérieur le dimanche 12 mai ou plus tôt ! Plus y a de monde\, plus vite ça va aller alors passer le mot! \nSi possible\, apportez une bonne paire de gants\, des scies\, vos bottes et\, surtout\, le sourire ! \nLe club offrira également un repas de pizza à tous les bénévoles présents. Veuillez donc confirmer votre présence par courriel avant le 25 avril à l’adresse au club@archersperrotdamois.com \n\nMerci de nous aider! \nLa direction
URL:https://archersperrotdamois.com/event/ouverture-du-terrain-exterieur/2024-05-11/
LOCATION:Site Extérieur\, 1701 boul. Don Quichotte\, Ile-Perrot\, Quebec\, Canada
END:VEVENT
BEGIN:VEVENT
DTSTART;VALUE=DATE:20240526
DTEND;VALUE=DATE:20240527
DTSTAMP:20260419T234540
CREATED:20240417T120450Z
LAST-MODIFIED:20240417T120450Z
UID:10000112-1716681600-1716767999@archersperrotdamois.com
SUMMARY:Archers de Saint-François
DESCRIPTION:
URL:https://archersperrotdamois.com/event/archers-de-saint-francois/
LOCATION:Terrain extérieur Archers Saint-François\, 269 Montée des Prairies\, Saint-François-de-la-Rivière-du-Sud\, canada\, quebec
END:VEVENT
END:VCALENDAR