BEGIN:VCALENDAR
VERSION:2.0
PRODID:-//Les Archers Perrotdamois - ECPv6.15.20//NONSGML v1.0//EN
CALSCALE:GREGORIAN
METHOD:PUBLISH
X-ORIGINAL-URL:https://archersperrotdamois.com
X-WR-CALDESC:Évènements pour Les Archers Perrotdamois
REFRESH-INTERVAL;VALUE=DURATION:PT1H
X-Robots-Tag:noindex
X-PUBLISHED-TTL:PT1H
BEGIN:VTIMEZONE
TZID:UTC
BEGIN:STANDARD
TZOFFSETFROM:+0000
TZOFFSETTO:+0000
TZNAME:UTC
DTSTART:20230101T000000
END:STANDARD
END:VTIMEZONE
BEGIN:VEVENT
DTSTART;VALUE=DATE:20240803
DTEND;VALUE=DATE:20240805
DTSTAMP:20260419T171324
CREATED:20240428T231011Z
LAST-MODIFIED:20240428T231011Z
UID:10000136-1722643200-1722815999@archersperrotdamois.com
SUMMARY:Archers du Centre-du-Québec
DESCRIPTION:Terrain extérieur Centre-du-Québec\, derrière le parc de maisons mobiles\n \n580 route 239\, Saint-Germain\, QC\, Canada\n\n\nÉric Bahl – (819) 818-2427
URL:https://archersperrotdamois.com/event/archers-du-centre-du-quebec/
LOCATION:Archers du Centre-du-Québec\, 580 route 239\, Saint-Germain\, Québec\, Canada
ATTACH;FMTTYPE=image/png:https://archersperrotdamois.com/wp-content/uploads/2024/04/logo_orig.png
END:VEVENT
BEGIN:VEVENT
DTSTART;VALUE=DATE:20240811
DTEND;VALUE=DATE:20240812
DTSTAMP:20260419T171324
CREATED:20240428T231207Z
LAST-MODIFIED:20240428T231207Z
UID:10000138-1723334400-1723420799@archersperrotdamois.com
SUMMARY:Arcus Saint-Jean
DESCRIPTION:Stéphane Thibodeau – (514) 754-1677
URL:https://archersperrotdamois.com/event/arcus-saint-jean-2/
LOCATION:Québec
ATTACH;FMTTYPE=image/png:https://archersperrotdamois.com/wp-content/uploads/2024/04/logo_orig.png
END:VEVENT
BEGIN:VEVENT
DTSTART;VALUE=DATE:20240817
DTEND;VALUE=DATE:20240818
DTSTAMP:20260419T171324
CREATED:20240428T231350Z
LAST-MODIFIED:20240428T231350Z
UID:10000140-1723852800-1723939199@archersperrotdamois.com
SUMMARY:Archers du Nord-Ouest
DESCRIPTION:Terrain extérieur Nord-Ouest\n \n750\, rang 2-3 Ouest\, Colombourg\, QC\, Canada\n\n\nDany Gaudreault – (819) 333-7881
URL:https://archersperrotdamois.com/event/archers-du-nord-ouest/
LOCATION:Archers du Nord-Ouest\, 750\, rang 2-3 Ouest\, Colombourg\, Québec\, Canada
ATTACH;FMTTYPE=image/png:https://archersperrotdamois.com/wp-content/uploads/2024/04/logo_orig.png
END:VEVENT
BEGIN:VEVENT
DTSTART;VALUE=DATE:20240818
DTEND;VALUE=DATE:20240819
DTSTAMP:20260419T171324
CREATED:20240428T231556Z
LAST-MODIFIED:20240428T231556Z
UID:10000142-1723939200-1724025599@archersperrotdamois.com
SUMMARY:Archers d'Amos
DESCRIPTION:Terrain extérieur Amos\n \n1 rue Falardeau\, Sainte-Gertrude-Manneville\, QC\, Canada\n\n\nAlexandre Dupuis – (819) 218-2044
URL:https://archersperrotdamois.com/event/archers-damos/
LOCATION:Archers d’Amos\, 1 rue Falardeau\, Sainte-Gertrude-Manneville\, Québec\, Canada
ATTACH;FMTTYPE=image/png:https://archersperrotdamois.com/wp-content/uploads/2024/04/logo_orig.png
END:VEVENT
BEGIN:VEVENT
DTSTART;VALUE=DATE:20240818
DTEND;VALUE=DATE:20240819
DTSTAMP:20260419T171324
CREATED:20240428T231738Z
LAST-MODIFIED:20240428T231738Z
UID:10000144-1723939200-1724025599@archersperrotdamois.com
SUMMARY:Archers Perrotdamois
DESCRIPTION:Terrain extérieur Perrotdamois\n \n1717 boul. Don Quichotte\, Île-Perrot\, QC\, Canada\n\n\nChris Vounasis – (514) 757-1185
URL:https://archersperrotdamois.com/event/archers-perrotdamois/
LOCATION:Archers Perrotdamois\, 1717 boul. Don Quichotte\, Île-Perrot\, Québec\, Canada
ATTACH;FMTTYPE=image/png:https://archersperrotdamois.com/wp-content/uploads/2024/04/logo_orig.png
END:VEVENT
BEGIN:VEVENT
DTSTART;VALUE=DATE:20240824
DTEND;VALUE=DATE:20240826
DTSTAMP:20260419T171324
CREATED:20240428T231943Z
LAST-MODIFIED:20240428T231943Z
UID:10000146-1724457600-1724630399@archersperrotdamois.com
SUMMARY:Championnat provincial extérieur 2024 - Archers Brome-Bolton
DESCRIPTION:Terrain extérieur Knowltonchemin Moffat\, Knowlton\, QC\, Canada\n\n\nJustin Gatien – (450) 204-4447
URL:https://archersperrotdamois.com/event/championnat-provincial-exterieur-2024-archers-brome-bolton/
LOCATION:Archers Brome-Bolton\, chemin Moffat\, Knowlton\, Québec\, Canada
ATTACH;FMTTYPE=image/png:https://archersperrotdamois.com/wp-content/uploads/2024/04/logo_orig.png
END:VEVENT
END:VCALENDAR